BEGIN:VCALENDAR
VERSION:2.0
PRODID:-//Okręgowa Izba Lekarska - ECPv5.3.2.1//NONSGML v1.0//EN
CALSCALE:GREGORIAN
METHOD:PUBLISH
X-WR-CALNAME:Okręgowa Izba Lekarska
X-ORIGINAL-URL:https://oilbialystok.pl
X-WR-CALDESC:Events for Okręgowa Izba Lekarska
BEGIN:VTIMEZONE
TZID:Europe/Warsaw
BEGIN:DAYLIGHT
TZOFFSETFROM:+0100
TZOFFSETTO:+0200
TZNAME:CEST
DTSTART:20250330T010000
END:DAYLIGHT
BEGIN:STANDARD
TZOFFSETFROM:+0200
TZOFFSETTO:+0100
TZNAME:CET
DTSTART:20251026T010000
END:STANDARD
END:VTIMEZONE
BEGIN:VEVENT
DTSTART;TZID=Europe/Warsaw:20250227T140000
DTEND;TZID=Europe/Warsaw:20250227T140000
DTSTAMP:20260421T172101
CREATED:20250226T091934Z
LAST-MODIFIED:20250226T091934Z
UID:9808-1740664800-1740664800@oilbialystok.pl
SUMMARY:Finisaż wystawy malarstwa „Nic nie mów” autorstwa Jakuba Mozgawy
DESCRIPTION:Szczegóły w zaproszeniu.
URL:https://oilbialystok.pl/wydarzenia/finisaz-wystawy-malarstwa-nic-nie-mow-autorstwa-jakuba-mozgawy/
LOCATION:Delegatura OIL w Łomży\, ul. Kazańska 14/22\, Łomża\, 18-404\, Poland
CATEGORIES:Po godzinach - Wydarzenia kulturalne
END:VEVENT
END:VCALENDAR