BEGIN:VCALENDAR
VERSION:2.0
PRODID:-//Okręgowa Izba Lekarska - ECPv5.3.2.1//NONSGML v1.0//EN
CALSCALE:GREGORIAN
METHOD:PUBLISH
X-WR-CALNAME:Okręgowa Izba Lekarska
X-ORIGINAL-URL:https://oilbialystok.pl
X-WR-CALDESC:Events for Okręgowa Izba Lekarska
BEGIN:VTIMEZONE
TZID:Europe/Warsaw
BEGIN:DAYLIGHT
TZOFFSETFROM:+0100
TZOFFSETTO:+0200
TZNAME:CEST
DTSTART:20250330T010000
END:DAYLIGHT
BEGIN:STANDARD
TZOFFSETFROM:+0200
TZOFFSETTO:+0100
TZNAME:CET
DTSTART:20251026T010000
END:STANDARD
END:VTIMEZONE
BEGIN:VEVENT
DTSTART;TZID=Europe/Warsaw:20250118T090000
DTEND;TZID=Europe/Warsaw:20250118T090000
DTSTAMP:20260422T135455
CREATED:20250110T133921Z
LAST-MODIFIED:20250110T133921Z
UID:9588-1737190800-1737190800@oilbialystok.pl
SUMMARY:Konferencja „Akcja Flozynacja dla seniora”
DESCRIPTION:Szczegóły w zaproszeniu.
URL:https://oilbialystok.pl/wydarzenia/konferencja-akcja-flozynacja-dla-seniora/
LOCATION:Euroregionalne Centrum Farmacji\, Mickiewicza 2d\, Białystok\, 15-959\, Poland
CATEGORIES:Konferencje
END:VEVENT
END:VCALENDAR