BEGIN:VCALENDAR
VERSION:2.0
PRODID:-//Okręgowa Izba Lekarska - ECPv5.3.2.1//NONSGML v1.0//EN
CALSCALE:GREGORIAN
METHOD:PUBLISH
X-WR-CALNAME:Okręgowa Izba Lekarska
X-ORIGINAL-URL:https://oilbialystok.pl
X-WR-CALDESC:Events for Okręgowa Izba Lekarska
BEGIN:VTIMEZONE
TZID:Europe/Warsaw
BEGIN:DAYLIGHT
TZOFFSETFROM:+0100
TZOFFSETTO:+0200
TZNAME:CEST
DTSTART:20230326T010000
END:DAYLIGHT
BEGIN:STANDARD
TZOFFSETFROM:+0200
TZOFFSETTO:+0100
TZNAME:CET
DTSTART:20231029T010000
END:STANDARD
END:VTIMEZONE
BEGIN:VEVENT
DTSTART;VALUE=DATE:20230512
DTEND;VALUE=DATE:20230514
DTSTAMP:20260420T180334
CREATED:20230426T150929Z
LAST-MODIFIED:20230426T150929Z
UID:6863-1683849600-1684022399@oilbialystok.pl
SUMMARY:Konferencja z zakresu chorób cywilizacyjnych i chorób narządu ruchu
DESCRIPTION:Szczegóły w zaproszeniu.
URL:https://oilbialystok.pl/wydarzenia/konferencja-z-zakresu-chorob-cywilizacyjnych-i-chorob-narzadu-ruchu/
LOCATION:Hotel Gołębiewski\, ul. Pałacowa 7\, Białystok\, 15-064\, Poland
CATEGORIES:Konferencje
END:VEVENT
END:VCALENDAR