BEGIN:VCALENDAR
VERSION:2.0
PRODID:-//Okręgowa Izba Lekarska - ECPv5.3.2.1//NONSGML v1.0//EN
CALSCALE:GREGORIAN
METHOD:PUBLISH
X-WR-CALNAME:Okręgowa Izba Lekarska
X-ORIGINAL-URL:https://oilbialystok.pl
X-WR-CALDESC:Events for Okręgowa Izba Lekarska
BEGIN:VTIMEZONE
TZID:Europe/Warsaw
BEGIN:DAYLIGHT
TZOFFSETFROM:+0100
TZOFFSETTO:+0200
TZNAME:CEST
DTSTART:20240331T010000
END:DAYLIGHT
BEGIN:STANDARD
TZOFFSETFROM:+0200
TZOFFSETTO:+0100
TZNAME:CET
DTSTART:20241027T010000
END:STANDARD
END:VTIMEZONE
BEGIN:VEVENT
DTSTART;VALUE=DATE:20240906
DTEND;VALUE=DATE:20240908
DTSTAMP:20260422T013521
CREATED:20240523T145758Z
LAST-MODIFIED:20240523T145758Z
UID:8639-1725580800-1725753599@oilbialystok.pl
SUMMARY:Ogólnopolska Konferencja „Wyzwania Hepato-Gastroenterologii 2024”
DESCRIPTION:Szczegóły w zaproszeniu.
URL:https://oilbialystok.pl/wydarzenia/ogolnopolska-konferencja-wyzwania-hepato-gastroenterologii-2024/
LOCATION:Hotel Gołębiewski\, ul. Pałacowa 7\, Białystok\, 15-064\, Poland
CATEGORIES:Konferencje
END:VEVENT
END:VCALENDAR