BEGIN:VCALENDAR
VERSION:2.0
PRODID:-//Okręgowa Izba Lekarska - ECPv5.3.2.1//NONSGML v1.0//EN
CALSCALE:GREGORIAN
METHOD:PUBLISH
X-WR-CALNAME:Okręgowa Izba Lekarska
X-ORIGINAL-URL:https://oilbialystok.pl
X-WR-CALDESC:Events for Okręgowa Izba Lekarska
BEGIN:VTIMEZONE
TZID:Europe/Warsaw
BEGIN:DAYLIGHT
TZOFFSETFROM:+0100
TZOFFSETTO:+0200
TZNAME:CEST
DTSTART:20260329T010000
END:DAYLIGHT
BEGIN:STANDARD
TZOFFSETFROM:+0200
TZOFFSETTO:+0100
TZNAME:CET
DTSTART:20261025T010000
END:STANDARD
END:VTIMEZONE
BEGIN:VEVENT
DTSTART;TZID=Europe/Warsaw:20260424T143000
DTEND;TZID=Europe/Warsaw:20260424T143000
DTSTAMP:20260421T140439
CREATED:20260420T164706Z
LAST-MODIFIED:20260420T164706Z
UID:11868-1777041000-1777041000@oilbialystok.pl
SUMMARY:Otwarte spotkanie Komisji ds. Praktyk Prywatnych
DESCRIPTION:Serdecznie zapraszamy wszystkich zainteresowanych do udziału w spotkaniu\, na którym będzie możliwość przedyskutowania aktualnych spraw problemowych dot. praktyk lekarskich.
URL:https://oilbialystok.pl/wydarzenia/otwarte-spotkanie-komisji-ds-praktyk-prywatnych/
LOCATION:Okręgowa Izba Lekarska w Białymstoku\, ul. Świętojańska 7\, Białystok\, podlaskie\, 15-082\, Polska
CATEGORIES:Posiedzenia
END:VEVENT
END:VCALENDAR