BEGIN:VCALENDAR
VERSION:2.0
PRODID:-//Okręgowa Izba Lekarska - ECPv5.3.2.1//NONSGML v1.0//EN
CALSCALE:GREGORIAN
METHOD:PUBLISH
X-WR-CALNAME:Okręgowa Izba Lekarska
X-ORIGINAL-URL:https://oilbialystok.pl
X-WR-CALDESC:Events for Okręgowa Izba Lekarska
BEGIN:VTIMEZONE
TZID:Europe/Warsaw
BEGIN:DAYLIGHT
TZOFFSETFROM:+0100
TZOFFSETTO:+0200
TZNAME:CEST
DTSTART:20240331T010000
END:DAYLIGHT
BEGIN:STANDARD
TZOFFSETFROM:+0200
TZOFFSETTO:+0100
TZNAME:CET
DTSTART:20241027T010000
END:STANDARD
END:VTIMEZONE
BEGIN:VEVENT
DTSTART;TZID=Europe/Warsaw:20241107T183000
DTEND;TZID=Europe/Warsaw:20241107T183000
DTSTAMP:20260423T101522
CREATED:20241029T105855Z
LAST-MODIFIED:20241029T105855Z
UID:9178-1731004200-1731004200@oilbialystok.pl
SUMMARY:Otwarte spotkanie lekarzy rodzinnych
DESCRIPTION:Otwarte spotkanie lekarzy rodzinnych – 7 listopada 18:30 \nKomisja ds. Lekarzy Rodzinnych wspólnie z Podlaskim Oddziałem Polskiego Towarzystwa Medycyny Rodzinnej serdecznie zaprasza wszystkich zainteresowanych na spotkanie lekarzy rodzinnych\, które odbędzie się 7 listopada 2024 r. o godz. 18:30\, jak zawsze w siedzibie OIL w Białymstoku. Omawiany będzie 13-ty Kongres Polskiego Towarzystwa Medycyny Rodzinnej \nWstęp wolny. \nPosiedzenie organizowane jest w formie hybrydowej. Mogą wziąć w nim udział członkowie OIL w Białymstoku\, mający uregulowane składki członkowskie. \nW przypadku chęci uczestnictwa w spotkaniu w trybie online\, prosimy o wysyłanie zgłoszeń do dnia 7 listopada 2024 r.\, do godziny 14 na adres d.ofmanska@hipokrates.org
URL:https://oilbialystok.pl/wydarzenia/otwarte-spotkanie-lekarzy-rodzinnych-14/
LOCATION:Okręgowa Izba Lekarska w Białymstoku\, ul. Świętojańska 7\, Białystok\, podlaskie\, 15-082\, Polska
CATEGORIES:Posiedzenia
END:VEVENT
END:VCALENDAR