BEGIN:VCALENDAR
VERSION:2.0
PRODID:-//Okręgowa Izba Lekarska - ECPv5.3.2.1//NONSGML v1.0//EN
CALSCALE:GREGORIAN
METHOD:PUBLISH
X-WR-CALNAME:Okręgowa Izba Lekarska
X-ORIGINAL-URL:https://oilbialystok.pl
X-WR-CALDESC:Events for Okręgowa Izba Lekarska
BEGIN:VTIMEZONE
TZID:Europe/Warsaw
BEGIN:DAYLIGHT
TZOFFSETFROM:+0100
TZOFFSETTO:+0200
TZNAME:CEST
DTSTART:20250330T010000
END:DAYLIGHT
BEGIN:STANDARD
TZOFFSETFROM:+0200
TZOFFSETTO:+0100
TZNAME:CET
DTSTART:20251026T010000
END:STANDARD
END:VTIMEZONE
BEGIN:VEVENT
DTSTART;TZID=Europe/Warsaw:20250122T160000
DTEND;TZID=Europe/Warsaw:20250122T160000
DTSTAMP:20260422T110332
CREATED:20241114T133656Z
LAST-MODIFIED:20241114T133656Z
UID:9305-1737561600-1737561600@oilbialystok.pl
SUMMARY:Posiedzenie Komisji Bioetycznej
DESCRIPTION:
URL:https://oilbialystok.pl/wydarzenia/posiedzenie-komisji-bioetycznej-41/
CATEGORIES:Posiedzenia
END:VEVENT
END:VCALENDAR