BEGIN:VCALENDAR
VERSION:2.0
PRODID:-//Okręgowa Izba Lekarska - ECPv5.3.2.1//NONSGML v1.0//EN
CALSCALE:GREGORIAN
METHOD:PUBLISH
X-WR-CALNAME:Okręgowa Izba Lekarska
X-ORIGINAL-URL:https://oilbialystok.pl
X-WR-CALDESC:Events for Okręgowa Izba Lekarska
BEGIN:VTIMEZONE
TZID:Europe/Warsaw
BEGIN:DAYLIGHT
TZOFFSETFROM:+0100
TZOFFSETTO:+0200
TZNAME:CEST
DTSTART:20240331T010000
END:DAYLIGHT
BEGIN:STANDARD
TZOFFSETFROM:+0200
TZOFFSETTO:+0100
TZNAME:CET
DTSTART:20241027T010000
END:STANDARD
END:VTIMEZONE
BEGIN:VEVENT
DTSTART;VALUE=DATE:20241005
DTEND;VALUE=DATE:20241006
DTSTAMP:20260422T204632
CREATED:20240904T102826Z
LAST-MODIFIED:20240904T102826Z
UID:8996-1728086400-1728172799@oilbialystok.pl
SUMMARY:Pożegnanie lata - spotkanie integracyjne
DESCRIPTION:Szczegóły w zaproszeniu.
URL:https://oilbialystok.pl/wydarzenia/pozegnanie-lata-spotkanie-integracyjne/
LOCATION:Ośrodek Konferencyjno–Szkoleniowy w Turośni Koscielnej\, Wysokie 3A\, Turośń Kościelna\, podlaskie\, 18-106\, Polska
CATEGORIES:Po godzinach - Wydarzenia kulturalne
END:VEVENT
END:VCALENDAR