BEGIN:VCALENDAR
VERSION:2.0
PRODID:-//Okręgowa Izba Lekarska - ECPv5.3.2.1//NONSGML v1.0//EN
CALSCALE:GREGORIAN
METHOD:PUBLISH
X-WR-CALNAME:Okręgowa Izba Lekarska
X-ORIGINAL-URL:https://oilbialystok.pl
X-WR-CALDESC:Events for Okręgowa Izba Lekarska
BEGIN:VTIMEZONE
TZID:Europe/Warsaw
BEGIN:DAYLIGHT
TZOFFSETFROM:+0100
TZOFFSETTO:+0200
TZNAME:CEST
DTSTART:20230326T010000
END:DAYLIGHT
BEGIN:STANDARD
TZOFFSETFROM:+0200
TZOFFSETTO:+0100
TZNAME:CET
DTSTART:20231029T010000
END:STANDARD
END:VTIMEZONE
BEGIN:VEVENT
DTSTART;TZID=Europe/Warsaw:20230515T180000
DTEND;TZID=Europe/Warsaw:20230515T180000
DTSTAMP:20260420T161843
CREATED:20230407T132512Z
LAST-MODIFIED:20230512T094809Z
UID:6731-1684173600-1684173600@oilbialystok.pl
SUMMARY:Recital wokalny „Muzyczne Portrety Kobiet”
DESCRIPTION:Serdecznie zapraszamy na recital wokalny dr hab. Eweliny Sielskiej-Badurek (mezzosopran) zatytułowany „Muzyczne Portrety Kobiet”\, organizowany pod patronatem OIL w Białymstoku w ramach stypendium Ministra Kultury „Polska kameralna muzyka wokalna kompozytorek XIX i początku XX wieku”.\nKoncert odbędzie się w dniu 15 maja (poniedziałek) o godz. 18:00 w Sali Kameralnej Filharmonii Podlaskiej przy ul. Podleśnej 2.
URL:https://oilbialystok.pl/wydarzenia/recital-wokalny-muzyczne-portrety-kobiet/
LOCATION:Sala Kameralna Filharmonii Podlaskiej\, ul. Podleśna 2\, Białystok\, 15-227
CATEGORIES:Po godzinach - Wydarzenia kulturalne
END:VEVENT
END:VCALENDAR