BEGIN:VCALENDAR
VERSION:2.0
PRODID:-//Okręgowa Izba Lekarska - ECPv5.3.2.1//NONSGML v1.0//EN
CALSCALE:GREGORIAN
METHOD:PUBLISH
X-WR-CALNAME:Okręgowa Izba Lekarska
X-ORIGINAL-URL:https://oilbialystok.pl
X-WR-CALDESC:Events for Okręgowa Izba Lekarska
BEGIN:VTIMEZONE
TZID:Europe/Warsaw
BEGIN:DAYLIGHT
TZOFFSETFROM:+0100
TZOFFSETTO:+0200
TZNAME:CEST
DTSTART:20210328T010000
END:DAYLIGHT
BEGIN:STANDARD
TZOFFSETFROM:+0200
TZOFFSETTO:+0100
TZNAME:CET
DTSTART:20211031T010000
END:STANDARD
END:VTIMEZONE
BEGIN:VEVENT
DTSTART;TZID=Europe/Warsaw:20211217T110000
DTEND;TZID=Europe/Warsaw:20211217T110000
DTSTAMP:20260420T082318
CREATED:20211116T084446Z
LAST-MODIFIED:20211116T084446Z
UID:3875-1639738800-1639738800@oilbialystok.pl
SUMMARY:Spotkanie opłatkowe emerytów i rencistów – Suwałki
DESCRIPTION:Zgodnie z coroczną tradycją uczestniczymy w spotkaniach opłatkowych \n\nSuwałki – 17 grudnia godz. 11 w Restauracji Dom Nauczyciela\, ul. Kościuszki 120 w Suwałkach.\n\nZapraszamy serdecznie lekarzy emerytów i rencistów. Zapewniamy\, że w czasie spotkania zachowane zostaną wszelkie zalecane zasady epidemiologiczne.\nProszę o zgłaszanie chęci uczestnictwa do Okręgowej Izby Lekarskiej w Białymstoku oraz w Delegaturach OIL do dnia 22 listopada 2021 roku. W przypadku zaostrzenia restrykcji pandemicznych\, spotkania mogą być odwołane. Proszę być w kontakcie telefonicznym z organizatorami. \nD. Łopianecka\, B. Kalinowska\, G. Stepczenko-Podziewska
URL:https://oilbialystok.pl/wydarzenia/spotkanie-oplatkowe-emerytow-i-rencistow-suwalki/
LOCATION:Restauracja Dom Nauczyciela\, Kościuszki 120\, Suwałki\, Poland
CATEGORIES:Po godzinach - Wydarzenia kulturalne
END:VEVENT
END:VCALENDAR