BEGIN:VCALENDAR
VERSION:2.0
PRODID:-//Okręgowa Izba Lekarska - ECPv5.3.2.1//NONSGML v1.0//EN
CALSCALE:GREGORIAN
METHOD:PUBLISH
X-WR-CALNAME:Okręgowa Izba Lekarska
X-ORIGINAL-URL:https://oilbialystok.pl
X-WR-CALDESC:Events for Okręgowa Izba Lekarska
BEGIN:VTIMEZONE
TZID:Europe/Warsaw
BEGIN:DAYLIGHT
TZOFFSETFROM:+0100
TZOFFSETTO:+0200
TZNAME:CEST
DTSTART:20220327T010000
END:DAYLIGHT
BEGIN:STANDARD
TZOFFSETFROM:+0200
TZOFFSETTO:+0100
TZNAME:CET
DTSTART:20221030T010000
END:STANDARD
END:VTIMEZONE
BEGIN:VEVENT
DTSTART;VALUE=DATE:20221209
DTEND;VALUE=DATE:20221210
DTSTAMP:20260420T031443
CREATED:20221012T110525Z
LAST-MODIFIED:20221012T110525Z
UID:5559-1670544000-1670630399@oilbialystok.pl
SUMMARY:Spotkanie opłatkowe w Suwałkach
DESCRIPTION:Szczegóły w zaproszeniu.
URL:https://oilbialystok.pl/wydarzenia/spotkanie-oplatkowe-w-suwalkach/
LOCATION:Restauracja Dom Nauczyciela\, Kościuszki 120\, Suwałki\, Poland
CATEGORIES:Po godzinach - Wydarzenia kulturalne
END:VEVENT
END:VCALENDAR