BEGIN:VCALENDAR
VERSION:2.0
PRODID:-//Okręgowa Izba Lekarska - ECPv5.3.2.1//NONSGML v1.0//EN
CALSCALE:GREGORIAN
METHOD:PUBLISH
X-WR-CALNAME:Okręgowa Izba Lekarska
X-ORIGINAL-URL:https://oilbialystok.pl
X-WR-CALDESC:Events for Okręgowa Izba Lekarska
BEGIN:VTIMEZONE
TZID:Europe/Warsaw
BEGIN:DAYLIGHT
TZOFFSETFROM:+0100
TZOFFSETTO:+0200
TZNAME:CEST
DTSTART:20240331T010000
END:DAYLIGHT
BEGIN:STANDARD
TZOFFSETFROM:+0200
TZOFFSETTO:+0100
TZNAME:CET
DTSTART:20241027T010000
END:STANDARD
END:VTIMEZONE
BEGIN:VEVENT
DTSTART;TZID=Europe/Warsaw:20240910T183000
DTEND;TZID=Europe/Warsaw:20240910T183000
DTSTAMP:20260422T030242
CREATED:20240830T075612Z
LAST-MODIFIED:20240830T075639Z
UID:8952-1725993000-1725993000@oilbialystok.pl
SUMMARY:Wykład „Przewlekła choroba nerek w praktyce lekarza POZ”
DESCRIPTION:Szczegóły w zaproszeniu.
URL:https://oilbialystok.pl/wydarzenia/wyklad-przewlekla-choroba-nerek-w-praktyce-lekarza-poz/
LOCATION:Okręgowa Izba Lekarska w Białymstoku\, ul. Świętojańska 7\, Białystok\, podlaskie\, 15-082\, Polska
CATEGORIES:Szkolenia
END:VEVENT
END:VCALENDAR