BEGIN:VCALENDAR
VERSION:2.0
PRODID:-//Okręgowa Izba Lekarska - ECPv5.3.2.1//NONSGML v1.0//EN
CALSCALE:GREGORIAN
METHOD:PUBLISH
X-WR-CALNAME:Okręgowa Izba Lekarska
X-ORIGINAL-URL:https://oilbialystok.pl
X-WR-CALDESC:Events for Okręgowa Izba Lekarska
BEGIN:VTIMEZONE
TZID:Europe/Warsaw
BEGIN:DAYLIGHT
TZOFFSETFROM:+0100
TZOFFSETTO:+0200
TZNAME:CEST
DTSTART:20240331T010000
END:DAYLIGHT
BEGIN:STANDARD
TZOFFSETFROM:+0200
TZOFFSETTO:+0100
TZNAME:CET
DTSTART:20241027T010000
END:STANDARD
END:VTIMEZONE
BEGIN:VEVENT
DTSTART;VALUE=DATE:20240911
DTEND;VALUE=DATE:20240915
DTSTAMP:20260422T044937
CREATED:20240702T141247Z
LAST-MODIFIED:20240702T141247Z
UID:8778-1726012800-1726358399@oilbialystok.pl
SUMMARY:XXV Zjazd Polskiego Towarzystwa Neurologicznego
DESCRIPTION:Szczegóły w zaproszeniu.
URL:https://oilbialystok.pl/wydarzenia/xxv-zjazd-polskiego-towarzystwa-neurologicznego/
CATEGORIES:Konferencje
END:VEVENT
END:VCALENDAR